BEGIN:VCALENDAR
VERSION:2.0
PRODID:-//eventon.com NONSGML v1.0//EN
BEGIN:VEVENT
UID:69e7340311c07
DTSTAMP:20260421T102331
DTSTART:20220511T183000Z
DTEND:20220511T200000Z
TZID:Europe/Berlin
LOCATION:
SUMMARY:English Through Art
DESCRIPTION: English Through Art\nhttps://veronaminorhierusalem.it/events/english-through-art/
URL:https://veronaminorhierusalem.it/events/english-through-art/
END:VEVENT
END:VCALENDAR