BEGIN:VCALENDAR
VERSION:2.0
PRODID:-//eventon.com NONSGML v1.0//EN
BEGIN:VEVENT
UID:69e748a3aec11
DTSTAMP:20260421T115131
DTSTART:20220514T143000Z
DTEND:20220514T160000Z
TZID:Europe/Berlin
LOCATION:
SUMMARY:Visible Thinking
DESCRIPTION: Visible Thinking\nhttps://veronaminorhierusalem.it/events/visible-thinking/
URL:https://veronaminorhierusalem.it/events/visible-thinking/
END:VEVENT
END:VCALENDAR