BEGIN:VCALENDAR
VERSION:2.0
PRODID:-//eventon.com NONSGML v1.0//EN
BEGIN:VEVENT
UID:69e733de3ab5d
DTSTAMP:20260421T102254
DTSTART:20220625T120000Z
DTEND:20220625T150000Z
TZID:Europe/Berlin
LOCATION:
SUMMARY:Andrea Mantegna e gli allievi veronesi tra Mantova e Verona
DESCRIPTION: Andrea Mantegna e gli allievi veronesi tra Mantova e Verona\nhttps://veronaminorhierusalem.it/events/andrea-mantegna-e-gli-allievi-veronesi-tra-mantova-e-verona/
URL:https://veronaminorhierusalem.it/events/andrea-mantegna-e-gli-allievi-veronesi-tra-mantova-e-verona/
END:VEVENT
END:VCALENDAR