BEGIN:VCALENDAR
VERSION:2.0
PRODID:-//eventon.com NONSGML v1.0//EN
BEGIN:VEVENT
UID:69e8920b2ffbc
DTSTAMP:20260422T111659
DTSTART:20220909T080000Z
DTEND:20220909T103000Z
TZID:Europe/Berlin
LOCATION:
SUMMARY:Il volontario che accoglie e comunicaPresso l’auditorium di San Fermo
DESCRIPTION: Il volontario che accoglie e comunicaPresso l’auditorium di San Fermo\nhttps://veronaminorhierusalem.it/events/il-volontario-che-accoglie-e-comunicapresso-lauditorium-di-san-fermo/
URL:https://veronaminorhierusalem.it/events/il-volontario-che-accoglie-e-comunicapresso-lauditorium-di-san-fermo/
END:VEVENT
END:VCALENDAR