BEGIN:VCALENDAR
VERSION:2.0
PRODID:-//eventon.com NONSGML v1.0//EN
BEGIN:VEVENT
UID:69e73418ce1e8
DTSTAMP:20260421T102352
DTSTART:20220910T080000Z
DTEND:20220910T103000Z
TZID:Europe/Berlin
LOCATION:
SUMMARY:Il volontario che accoglie e comunicaPresso l’auditorium di San Fermo
DESCRIPTION: Il volontario che accoglie e comunicaPresso l’auditorium di San Fermo\nhttps://veronaminorhierusalem.it/events/il-volontario-che-accoglie-e-comunicapresso-lauditorium-di-san-fermo-3/
URL:https://veronaminorhierusalem.it/events/il-volontario-che-accoglie-e-comunicapresso-lauditorium-di-san-fermo-3/
END:VEVENT
END:VCALENDAR