BEGIN:VCALENDAR
VERSION:2.0
PRODID:-//eventon.com NONSGML v1.0//EN
BEGIN:VEVENT
UID:69e733f0ce76b
DTSTAMP:20260421T102312
DTSTART:20220910T120000Z
DTEND:20220910T150000Z
TZID:Europe/Berlin
LOCATION:
SUMMARY:Le squadre rinascono nei tre Itinerari
DESCRIPTION: Le squadre rinascono nei tre Itinerari\nhttps://veronaminorhierusalem.it/events/le-squadre-rinascono-nei-tre-itinerari/
URL:https://veronaminorhierusalem.it/events/le-squadre-rinascono-nei-tre-itinerari/
END:VEVENT
END:VCALENDAR