BEGIN:VCALENDAR
VERSION:2.0
PRODID:-//eventon.com NONSGML v1.0//EN
BEGIN:VEVENT
UID:69e733ddbfad0
DTSTAMP:20260421T102253
DTSTART:20220911T120000Z
DTEND:20220911T154500Z
TZID:Europe/Berlin
LOCATION:
SUMMARY:Il ”Filo Azzurro” che abbraccia la città
DESCRIPTION: Il ”Filo Azzurro” che abbraccia la città\nhttps://veronaminorhierusalem.it/events/il-filo-azzurro-che-abbraccia-la-citta/
URL:https://veronaminorhierusalem.it/events/il-filo-azzurro-che-abbraccia-la-citta/
END:VEVENT
END:VCALENDAR