BEGIN:VCALENDAR
VERSION:2.0
PRODID:-//eventon.com NONSGML v1.0//EN
BEGIN:VEVENT
UID:69e734039831e
DTSTAMP:20260421T102331
DTSTART:20221002T130000Z
DTEND:20221002T190000Z
TZID:Europe/Berlin
LOCATION:
SUMMARY:Per acqua\,  terra e cielo nella Piccola Gerusalemme
DESCRIPTION: Per acqua\,  terra e cielo nella Piccola Gerusalemme\nhttps://veronaminorhierusalem.it/events/per-acqua-terra-e-cielo-nella-piccola-gerusalemme/
URL:https://veronaminorhierusalem.it/events/per-acqua-terra-e-cielo-nella-piccola-gerusalemme/
END:VEVENT
END:VCALENDAR