BEGIN:VCALENDAR
VERSION:2.0
PRODID:-//eventon.com NONSGML v1.0//EN
BEGIN:VEVENT
UID:69e733c18f184
DTSTAMP:20260421T102225
DTSTART:20221008T123000Z
DTEND:20221008T153000Z
TZID:Europe/Berlin
LOCATION:
SUMMARY:Da una nave di santi attraverso i cieli di Veronetta
DESCRIPTION: Da una nave di santi attraverso i cieli di Veronetta\nhttps://veronaminorhierusalem.it/events/da-una-nave-di-santi-attraverso-i-cieli-di-veronetta/
URL:https://veronaminorhierusalem.it/events/da-una-nave-di-santi-attraverso-i-cieli-di-veronetta/
END:VEVENT
END:VCALENDAR