BEGIN:VCALENDAR
VERSION:2.0
PRODID:-//eventon.com NONSGML v1.0//EN
BEGIN:VEVENT
UID:69e891f88cc5e
DTSTAMP:20260422T111640
DTSTART:20221210T133000Z
DTEND:20221210T160000Z
TZID:Europe/Berlin
LOCATION:
SUMMARY:"Dall'annuncio dell'angelo a Regina del Cielo". Rappresentazioni mariane nelle chiese di Verona Minor Hierusalem
DESCRIPTION: "Dall'annuncio dell'angelo a Regina del Cielo". Rappresentazioni mariane nelle chiese di Verona Minor Hierusalem\nhttps://veronaminorhierusalem.it/events/dallannuncio-dellangelo-a-regina-del-cielo-rappresentazioni-mariane-nelle-chiese-di-verona-minor-hierusalem/
URL:https://veronaminorhierusalem.it/events/dallannuncio-dellangelo-a-regina-del-cielo-rappresentazioni-mariane-nelle-chiese-di-verona-minor-hierusalem/
END:VEVENT
END:VCALENDAR