BEGIN:VCALENDAR
VERSION:2.0
PRODID:-//eventon.com NONSGML v1.0//EN
BEGIN:VEVENT
UID:69e892315589d
DTSTAMP:20260422T111737
DTSTART:20230401T130000Z
DTEND:20230401T150000Z
TZID:Europe/Berlin
LOCATION:
SUMMARY: <strong>L’arte del vino e la cultura della vite: un itinerario culturale a sinistra Adige</strong>
DESCRIPTION:  <strong>L’arte del vino e la cultura della vite: un itinerario culturale a sinistra Adige</strong>\nhttps://veronaminorhierusalem.it/events/larte-del-vino-e-la-cultura-della-vite-itineario-culturale/
URL:https://veronaminorhierusalem.it/events/larte-del-vino-e-la-cultura-della-vite-itineario-culturale/
END:VEVENT
END:VCALENDAR