BEGIN:VCALENDAR
VERSION:2.0
PRODID:-//eventon.com NONSGML v1.0//EN
BEGIN:VEVENT
UID:69e8922cafb21
DTSTAMP:20260422T111732
DTSTART:20230520T123000Z
DTEND:20230520T153000Z
TZID:Europe/Berlin
LOCATION:
SUMMARY:<em>Imagines di devozione: arte e spiritualità nella Giornata del patrimonio CEI.</em>
DESCRIPTION: <em>Imagines di devozione: arte e spiritualità nella Giornata del patrimonio CEI.</em>\nhttps://veronaminorhierusalem.it/events/imagines-di-devozione-arte-e-spiritualita-nella-giornata-del-patrimonio-cei/
URL:https://veronaminorhierusalem.it/events/imagines-di-devozione-arte-e-spiritualita-nella-giornata-del-patrimonio-cei/
END:VEVENT
END:VCALENDAR