BEGIN:VCALENDAR
VERSION:2.0
PRODID:-//eventon.com NONSGML v1.0//EN
BEGIN:VEVENT
UID:69e733f1495a2
DTSTAMP:20260421T102313
DTSTART:20231014T123000Z
DTEND:20231014T150000Z
TZID:Europe/Berlin
LOCATION:
SUMMARY:Cavalieri a Verona: Templari e Gerosolimitani e il culto delle reliquie
DESCRIPTION: ITINERARIO CULTURALE\nhttps://veronaminorhierusalem.it/events/cavalieri-a-verona-templari-e-gerosolimitani-e-il-culto-delle-reliquie/
URL:https://veronaminorhierusalem.it/events/cavalieri-a-verona-templari-e-gerosolimitani-e-il-culto-delle-reliquie/
END:VEVENT
END:VCALENDAR